BEGIN:VCALENDAR
VERSION:2.0
PRODID:-//Collaborative Family Healthcare Association - ECPv6.15.20//NONSGML v1.0//EN
CALSCALE:GREGORIAN
METHOD:PUBLISH
X-WR-CALNAME:Collaborative Family Healthcare Association
X-ORIGINAL-URL:https://www.cfha.net
X-WR-CALDESC:Events for Collaborative Family Healthcare Association
REFRESH-INTERVAL;VALUE=DURATION:PT1H
X-Robots-Tag:noindex
X-PUBLISHED-TTL:PT1H
BEGIN:VTIMEZONE
TZID:America/New_York
BEGIN:DAYLIGHT
TZOFFSETFROM:-0500
TZOFFSETTO:-0400
TZNAME:EDT
DTSTART:20230312T070000
END:DAYLIGHT
BEGIN:STANDARD
TZOFFSETFROM:-0400
TZOFFSETTO:-0500
TZNAME:EST
DTSTART:20231105T060000
END:STANDARD
BEGIN:DAYLIGHT
TZOFFSETFROM:-0500
TZOFFSETTO:-0400
TZNAME:EDT
DTSTART:20240310T070000
END:DAYLIGHT
BEGIN:STANDARD
TZOFFSETFROM:-0400
TZOFFSETTO:-0500
TZNAME:EST
DTSTART:20241103T060000
END:STANDARD
BEGIN:DAYLIGHT
TZOFFSETFROM:-0500
TZOFFSETTO:-0400
TZNAME:EDT
DTSTART:20250309T070000
END:DAYLIGHT
BEGIN:STANDARD
TZOFFSETFROM:-0400
TZOFFSETTO:-0500
TZNAME:EST
DTSTART:20251102T060000
END:STANDARD
BEGIN:DAYLIGHT
TZOFFSETFROM:-0500
TZOFFSETTO:-0400
TZNAME:EDT
DTSTART:20260308T070000
END:DAYLIGHT
BEGIN:STANDARD
TZOFFSETFROM:-0400
TZOFFSETTO:-0500
TZNAME:EST
DTSTART:20261101T060000
END:STANDARD
END:VTIMEZONE
BEGIN:VTIMEZONE
TZID:America/Chicago
BEGIN:DAYLIGHT
TZOFFSETFROM:-0600
TZOFFSETTO:-0500
TZNAME:CDT
DTSTART:20230312T080000
END:DAYLIGHT
BEGIN:STANDARD
TZOFFSETFROM:-0500
TZOFFSETTO:-0600
TZNAME:CST
DTSTART:20231105T070000
END:STANDARD
BEGIN:DAYLIGHT
TZOFFSETFROM:-0600
TZOFFSETTO:-0500
TZNAME:CDT
DTSTART:20240310T080000
END:DAYLIGHT
BEGIN:STANDARD
TZOFFSETFROM:-0500
TZOFFSETTO:-0600
TZNAME:CST
DTSTART:20241103T070000
END:STANDARD
BEGIN:DAYLIGHT
TZOFFSETFROM:-0600
TZOFFSETTO:-0500
TZNAME:CDT
DTSTART:20250309T080000
END:DAYLIGHT
BEGIN:STANDARD
TZOFFSETFROM:-0500
TZOFFSETTO:-0600
TZNAME:CST
DTSTART:20251102T070000
END:STANDARD
END:VTIMEZONE
BEGIN:VEVENT
DTSTART;TZID=America/New_York:20250221T140000
DTEND;TZID=America/New_York:20250221T153000
DTSTAMP:20260421T214827
CREATED:20241017T212951Z
LAST-MODIFIED:20250220T050539Z
UID:10000237-1740146400-1740151800@www.cfha.net
SUMMARY:Certificate Program in Primary Care Behavioral Health Leadership
DESCRIPTION:The rapid development of behavioral health integration around the nation in health systems with multiple primary care sites has led to the emergence of a new role: “director\,” or “supervisor\,” or “lead” of behavioral health integration (BHI). A number of people in this role feel unprepared for the demands that it imposes. They have risen to leadership positions on their clinical skills\, but they have little training or experience in management and leadership in an organization.  The new leaders find themselves needing to address issues such as hiring and onboarding\, staff evaluations\, design of program and patient metrics\, data reporting and quality improvement\, and helping health system authorities understand how much behavioral health services can add to the effectiveness and efficiency of the healthcare services of the organization as a whole. \nThis course\, led by Dr. Alexander (Sandy) Blount\, a long-time leader in the field\, is a unique opportunity to receive mentorship\, peer support and skill development for the clinician-leader. \nThe course will meet every other week for a calendar year (23 meetings) via Zoom. 34.50 CEUS for psychologists and social workers will be available.
URL:https://www.cfha.net/event/certificate-program-in-primary-care-behavioral-health-leadership/2025-02-21/
CATEGORIES:Open to the Public,Training Experiences
LOCATION:https://www.cfha.net/event/certificate-program-in-primary-care-behavioral-health-leadership/2025-02-21/
END:VEVENT
BEGIN:VEVENT
DTSTART;TZID=America/New_York:20250221T123000
DTEND;TZID=America/New_York:20250221T133000
DTSTAMP:20260421T214827
CREATED:20250130T224743Z
LAST-MODIFIED:20250130T224814Z
UID:10000374-1740141000-1740144600@www.cfha.net
SUMMARY:African Americans in Integrated Care Workgroup
DESCRIPTION:The African Americans in Integrated Care Workgroup is designed for behavioral health clinicians\, prescribing providers\, administrators\, and healthcare leaders who identify as Black or African American and have an interest in Integrated Care. Each meeting session will have a topic and direction. There will also be delegated time to network and welcome open discussion. Some of the group’s initiatives are: \n-Peer Support for AA in Integrated Care settings/Retention of AA in Integrated Care \n-Workforce Development for College and High School Students \n-Addressing History of Oppression in medical and mental health care \n  \nThe AA in IC workgroup meets bi-monthly at 12:30pm ET // 11:30am CT // 10:30am MT // 9:30am PT.
URL:https://www.cfha.net/event/african-americans-in-integrated-care-workgroup/2025-02-21/
CATEGORIES:AA in IC,Open to the Public,Workgroup
LOCATION:https://us02web.zoom.us/meeting/register/DNGJ9B12RRSPgcfKtl-aiw
END:VEVENT
BEGIN:VEVENT
DTSTART;TZID=America/New_York:20250220T130000
DTEND;TZID=America/New_York:20250220T140000
DTSTAMP:20260421T214827
CREATED:20250130T003844Z
LAST-MODIFIED:20250217T184634Z
UID:10000369-1740056400-1740060000@www.cfha.net
SUMMARY:PCBH SIG Meeting - AI in PCBH
DESCRIPTION:Join the PCBH SIG for a community conversation about using artificial intelligence in PCBH. Has your clinic incorporated it into your practice? What has your experience been? How could AI be helpful for integrated care\, and how could it be harmful? Join us to share your thoughts and experiences! \nThe PCBH SIG provides learning experiences to CFHA members\, strengthens and grows the PCBH SIG Mentorship Connector\, and works towards increasing its collaboration with other CFHA SIGs and committees as well as other national organizations with similar mission\, vision\, and values as CFHA. At every PCBH meeting\, you can expect an update on what we are working on as well as either a webinar from experts in the field or a community conversation on timely and pertinent topics related to integrated care and PCBH service model delivery. \nThis group meets on the 3rd Thursday of every other month at 1pm ET // 12pm CT // 11am MT // 10am PT. \n  \nSIG Meetings are a CFHA Member Benefit. Learn more about becoming a CFHA Member.
URL:https://www.cfha.net/event/pcbh-sig-meeting-2/
CATEGORIES:Members-Only Event,PCBH,SIG
LOCATION:https://us02web.zoom.us/meeting/register/MxzYLCz1TrKOF8_49_r0_A
END:VEVENT
BEGIN:VEVENT
DTSTART;TZID=America/New_York:20250220T120000
DTEND;TZID=America/New_York:20250220T130000
DTSTAMP:20260421T214827
CREATED:20241219T002815Z
LAST-MODIFIED:20251118T230240Z
UID:10000324-1740052800-1740056400@www.cfha.net
SUMMARY:Value-Based Care Workgroup
DESCRIPTION:Aligning payment initiatives and integrated care delivery facilitates meaningful\, whole-person approaches to serve patients in our communities. The Value-Based Care (VBC) workgroup provides a forum to hold relevant discussions\, create shared learning opportunities\, and offer recommendations regarding VBC. \nThe VBC Workgroup meets on the 3rd Thursday of each month at 12pm ET // 11am CT // 10am MT // 9am PT.
URL:https://www.cfha.net/event/value-based-care-workgroup/2025-02-20/
CATEGORIES:Open to the Public,VBC,Workgroup
LOCATION:https://us02web.zoom.us/meeting/register/tZcpf-GsrzosHNAXLQJM2C9vj0W4moS9fOOP
END:VEVENT
BEGIN:VEVENT
DTSTART;TZID=America/New_York:20250214T120000
DTEND;TZID=America/New_York:20250214T133000
DTSTAMP:20260421T214827
CREATED:20241023T171420Z
LAST-MODIFIED:20250220T050626Z
UID:10000258-1739534400-1739539800@www.cfha.net
SUMMARY:PCBH Implementation Lab with David Bauman and Bridget Beachy
DESCRIPTION:Embark on a transformative journey towards mastering the core principles for successful integration of Primary Care Behavioral Health (PCBH) in your practice with our exclusive 4-month learning program! Guided by none other than industry trailblazers Bridget Beachy and David Bauman\, who have not only pioneered but continue to lead one of the nation’s most successful PCBH programs\, this lab promises an unparalleled learning experience. \nWhether you’re just starting to explore the potential of PCBH or looking to refine your existing practices\, this program is tailor-made for practitioners at every stage of their PCBH journey. With Bridget and David’s wealth of experience and insights\, you’ll delve into a comprehensive curriculum designed to equip you with the tools\, strategies\, and expertise needed to confidently integrate behavioral health services into primary care settings. \nPrepare to gain invaluable skills in assessment\, intervention\, and team-based care\, all while fostering a patient-centered approach that promotes holistic wellness. By the end of this immersive lab\, you’ll not only be well-versed in the principles of PCBH but also equipped to revolutionize the way behavioral health is delivered within your practice.
URL:https://www.cfha.net/event/pcbh-implementation-program-builder-lab-with-david-bauman-and-bridget-beachy/2025-02-14/
CATEGORIES:Open to the Public,Training Experiences
LOCATION:https://www.cfha.net/event/pcbh-implementation-program-builder-lab-with-david-bauman-and-bridget-beachy/2025-02-14/
END:VEVENT
BEGIN:VEVENT
DTSTART;TZID=America/New_York:20250207T140000
DTEND;TZID=America/New_York:20250207T153000
DTSTAMP:20260421T214827
CREATED:20241017T212951Z
LAST-MODIFIED:20250220T050539Z
UID:10000236-1738936800-1738942200@www.cfha.net
SUMMARY:Certificate Program in Primary Care Behavioral Health Leadership
DESCRIPTION:The rapid development of behavioral health integration around the nation in health systems with multiple primary care sites has led to the emergence of a new role: “director\,” or “supervisor\,” or “lead” of behavioral health integration (BHI). A number of people in this role feel unprepared for the demands that it imposes. They have risen to leadership positions on their clinical skills\, but they have little training or experience in management and leadership in an organization.  The new leaders find themselves needing to address issues such as hiring and onboarding\, staff evaluations\, design of program and patient metrics\, data reporting and quality improvement\, and helping health system authorities understand how much behavioral health services can add to the effectiveness and efficiency of the healthcare services of the organization as a whole. \nThis course\, led by Dr. Alexander (Sandy) Blount\, a long-time leader in the field\, is a unique opportunity to receive mentorship\, peer support and skill development for the clinician-leader. \nThe course will meet every other week for a calendar year (23 meetings) via Zoom. 34.50 CEUS for psychologists and social workers will be available.
URL:https://www.cfha.net/event/certificate-program-in-primary-care-behavioral-health-leadership/2025-02-07/
CATEGORIES:Open to the Public,Training Experiences
LOCATION:https://www.cfha.net/event/certificate-program-in-primary-care-behavioral-health-leadership/2025-02-07/
END:VEVENT
BEGIN:VEVENT
DTSTART;TZID=America/New_York:20250207T140000
DTEND;TZID=America/New_York:20250207T150000
DTSTAMP:20260421T214827
CREATED:20241202T220619Z
LAST-MODIFIED:20250924T182410Z
UID:10000281-1738936800-1738940400@www.cfha.net
SUMMARY:Medical Champions for Integrated Care (MChIC) Workgroup
DESCRIPTION:The Medical Champions for Integrated Care (MChIC) Workgroup was created for medical professionals navigating the challenges of integrating physical and behavioral health care. We understand how exhausting breaking down silos in healthcare can be—because we’re on that journey with you! \nThe MChIC Workgroup will meet on the 1st Friday of the month at 2pm ET // 1pm CT // 12pm MT // 11am PT.
URL:https://www.cfha.net/event/medical-champions-in-integrated-care-mchic-workgroup/2025-02-07/
CATEGORIES:MChIC,Open to the Public,Workgroup
LOCATION:https://us02web.zoom.us/meeting/register/tZ0od-mrqDsiGNb9s6pfADIJem7tj5uT_m38
END:VEVENT
BEGIN:VEVENT
DTSTART;TZID=America/New_York:20250205T140000
DTEND;TZID=America/New_York:20250205T150000
DTSTAMP:20260421T214827
CREATED:20250116T011728Z
LAST-MODIFIED:20250730T181149Z
UID:10000347-1738764000-1738767600@www.cfha.net
SUMMARY:CoCM SIG Meeting
DESCRIPTION:During CoCM SIG meetings\, we hear from colleagues who are implementing CoCM across the country and learn innovative ways to approach the challenges of building and sustaining a robust integrated care program. It is also a space to ask questions and share progress and challenges with experts in CoCM and integrated care. We also have some fun and support one another! \nThis group meets on the 1st Wednesday of each month at 2pm ET // 1pm CT // 12pm MT // 11am PT. \n  \nSIG Meetings are a CFHA Member Benefit. Learn more about becoming a CFHA Member.
URL:https://www.cfha.net/event/cocm-sig-meeting/2025-02-05/
CATEGORIES:CoCM,Members-Only Event,SIG
LOCATION:https://us02web.zoom.us/meeting/register/H605T_pdRwmkWP59_vkbQg
END:VEVENT
BEGIN:VEVENT
DTSTART;TZID=America/New_York:20250203T120000
DTEND;TZID=America/New_York:20250203T130000
DTSTAMP:20260421T214827
CREATED:20241204T204230Z
LAST-MODIFIED:20250220T050318Z
UID:10000308-1738584000-1738587600@www.cfha.net
SUMMARY:Pediatrics SIG Meeting
DESCRIPTION:The Pediatrics SIG grows interest and enthusiasm\, provides learning experiences\, and promotes actionable dissemination activities among CFHA members regarding Pediatric Integrated Care delivery. Each meeting will include a presentation and facilitated discussion related to a topic in pediatric integrated care as well as a Research Corner presentation on a pediatric article related to the monthly topic. \nThis group meets on the 1st Monday of each month at 12pm ET // 11am CT // 10am MT // 9am PT. \n  \nSIG Meetings are a CFHA Member Benefit. Learn more about becoming a CFHA Member.
URL:https://www.cfha.net/event/pediatrics-sig-meeting/2025-02-03/
CATEGORIES:Members-Only Event,Pediatrics,SIG
LOCATION:https://us02web.zoom.us/meeting/register/tZUuceypqj8sE9SItm88wQJ2fXneS5QEiiCl
END:VEVENT
BEGIN:VEVENT
DTSTART;TZID=America/New_York:20250124T140000
DTEND;TZID=America/New_York:20250124T153000
DTSTAMP:20260421T214827
CREATED:20241017T212951Z
LAST-MODIFIED:20250220T050539Z
UID:10000235-1737727200-1737732600@www.cfha.net
SUMMARY:Certificate Program in Primary Care Behavioral Health Leadership
DESCRIPTION:The rapid development of behavioral health integration around the nation in health systems with multiple primary care sites has led to the emergence of a new role: “director\,” or “supervisor\,” or “lead” of behavioral health integration (BHI). A number of people in this role feel unprepared for the demands that it imposes. They have risen to leadership positions on their clinical skills\, but they have little training or experience in management and leadership in an organization.  The new leaders find themselves needing to address issues such as hiring and onboarding\, staff evaluations\, design of program and patient metrics\, data reporting and quality improvement\, and helping health system authorities understand how much behavioral health services can add to the effectiveness and efficiency of the healthcare services of the organization as a whole. \nThis course\, led by Dr. Alexander (Sandy) Blount\, a long-time leader in the field\, is a unique opportunity to receive mentorship\, peer support and skill development for the clinician-leader. \nThe course will meet every other week for a calendar year (23 meetings) via Zoom. 34.50 CEUS for psychologists and social workers will be available.
URL:https://www.cfha.net/event/certificate-program-in-primary-care-behavioral-health-leadership/2025-01-24/
CATEGORIES:Open to the Public,Training Experiences
LOCATION:https://www.cfha.net/event/certificate-program-in-primary-care-behavioral-health-leadership/2025-01-24/
END:VEVENT
BEGIN:VEVENT
DTSTART;TZID=America/New_York:20250121T110000
DTEND;TZID=America/New_York:20250121T120000
DTSTAMP:20260421T214827
CREATED:20241218T234450Z
LAST-MODIFIED:20250220T050528Z
UID:10000319-1737457200-1737460800@www.cfha.net
SUMMARY:School-Based Integrated Care Workgroup
DESCRIPTION:The School-Based Integrated Care Workgroup\, led by Lindsey Overstreet and Ben Hillyard\, will meet quarterly on the 3rd Tuesday of the month at 11am ET // 10am CT // 9am MT // 8am PT.
URL:https://www.cfha.net/event/school-based-integrated-care-workgroup/2025-01-21/
CATEGORIES:Open to the Public,School-Based IC,Workgroup
LOCATION:https://us02web.zoom.us/meeting/register/tZYpcuuoqDkpE9AK_deN8LiT2tjME3R0yKjk
END:VEVENT
BEGIN:VEVENT
DTSTART;TZID=America/New_York:20250116T130000
DTEND;TZID=America/New_York:20250116T140000
DTSTAMP:20260421T214827
CREATED:20241119T203647Z
LAST-MODIFIED:20250220T050522Z
UID:10000274-1737032400-1737036000@www.cfha.net
SUMMARY:Women's Leadership Group
DESCRIPTION:The Women’s Leadership Group is a collaborative forum dedicated to empowering and supporting women in navigating challenges while celebrating successes along their leadership journey in Integrated Behavioral Health. Our gatherings foster a space for empowerment\, mutual support\, and the sharing of triumphs\, contributing to the advancement of women’s leadership in our field. \nThis group meets on the 3rd Thursday of every other month at 1pm ET // 12pm CT // 11am MT // 10am PT.
URL:https://www.cfha.net/event/womens-leadership-group-2/2025-01-16/
CATEGORIES:Open to the Public,Women's Leadership Group,Workgroup
LOCATION:https://us02web.zoom.us/meeting/register/tZwpde2rrjgrHdA-suj_b9rAQffk1hy7mzeG
END:VEVENT
BEGIN:VEVENT
DTSTART;TZID=America/New_York:20250116T120000
DTEND;TZID=America/New_York:20250116T130000
DTSTAMP:20260421T214827
CREATED:20241219T002815Z
LAST-MODIFIED:20251118T230240Z
UID:10000323-1737028800-1737032400@www.cfha.net
SUMMARY:Value-Based Care Workgroup
DESCRIPTION:Aligning payment initiatives and integrated care delivery facilitates meaningful\, whole-person approaches to serve patients in our communities. The Value-Based Care (VBC) workgroup provides a forum to hold relevant discussions\, create shared learning opportunities\, and offer recommendations regarding VBC. \nThe VBC Workgroup meets on the 3rd Thursday of each month at 12pm ET // 11am CT // 10am MT // 9am PT.
URL:https://www.cfha.net/event/value-based-care-workgroup/2025-01-16/
CATEGORIES:Open to the Public,VBC,Workgroup
LOCATION:https://us02web.zoom.us/meeting/register/tZcpf-GsrzosHNAXLQJM2C9vj0W4moS9fOOP
END:VEVENT
BEGIN:VEVENT
DTSTART;TZID=America/New_York:20250108T130000
DTEND;TZID=America/New_York:20250108T140000
DTSTAMP:20260421T214827
CREATED:20241119T202217Z
LAST-MODIFIED:20250220T050403Z
UID:10000268-1736341200-1736344800@www.cfha.net
SUMMARY:Just Medicine Committee Meeting
DESCRIPTION:The Just Medicine Committee (JMC) is focused on advancing the mission of CFHA to be more inclusive and equitable. We are engaged and passionate about discussing solutions to the missing pieces that this committee has identified. \nThe JMC meets on the 2nd Wednesday of every other month at 1pm ET // 12pm CT // 11am MT // 10am PT.
URL:https://www.cfha.net/event/just-medicine-committee-meeting-2/2025-01-08/
CATEGORIES:Committee,JMC,Open to the Public
LOCATION:https://us02web.zoom.us/meeting/register/tZ0ud-qgrT4uGdM4YyanBDBf-Bn3IVt_WtS4
END:VEVENT
BEGIN:VEVENT
DTSTART;TZID=America/New_York:20250106T120000
DTEND;TZID=America/New_York:20250106T130000
DTSTAMP:20260421T214827
CREATED:20241204T204230Z
LAST-MODIFIED:20250220T050318Z
UID:10000307-1736164800-1736168400@www.cfha.net
SUMMARY:Pediatrics SIG Meeting
DESCRIPTION:The Pediatrics SIG grows interest and enthusiasm\, provides learning experiences\, and promotes actionable dissemination activities among CFHA members regarding Pediatric Integrated Care delivery. Each meeting will include a presentation and facilitated discussion related to a topic in pediatric integrated care as well as a Research Corner presentation on a pediatric article related to the monthly topic. \nThis group meets on the 1st Monday of each month at 12pm ET // 11am CT // 10am MT // 9am PT. \n  \nSIG Meetings are a CFHA Member Benefit. Learn more about becoming a CFHA Member.
URL:https://www.cfha.net/event/pediatrics-sig-meeting/2025-01-06/
CATEGORIES:Members-Only Event,Pediatrics,SIG
LOCATION:https://us02web.zoom.us/meeting/register/tZUuceypqj8sE9SItm88wQJ2fXneS5QEiiCl
END:VEVENT
BEGIN:VEVENT
DTSTART;VALUE=DATE:20241024
DTEND;VALUE=DATE:20241027
DTSTAMP:20260421T214827
CREATED:20240926T194918Z
LAST-MODIFIED:20240926T195345Z
UID:10000216-1729728000-1729987199@www.cfha.net
SUMMARY:Annual CFHA Conference - 30 Years of Integration: Innovating in the Pursuit of Healing
DESCRIPTION:The Collaborative Family Healthcare Association (CFHA) hosts the premier conference for healthcare professionals and allies interested in bringing medicine and behavioral health together. As part of a suite of services\, which include community building\, content production\, and consultation services\, CFHA’s annual conference has become the place to learn and network with all stripes of healthcare professionals\, foundations\, payers\, and others interested in integrated care. With over 80 sessions\, 20 CEs\, and ample networking times CFHA’s conference is the place to build lifelong professional relationships. \nIntegrated care has been our guiding force for healing over the past 30 years\, marked by the evolution from the Collaborative Family Health Care Coalition to the present-day Collaborative Family Healthcare Association. As we celebrate this milestone at the 2024 CFHA Conference in San Antonio\, we reflect on the resilience and innovation that have fueled integrated care through pandemics\, social challenges\, and healthcare reforms.
URL:https://www.cfha.net/event/annual-cfha-conference-30-years-of-integration-innovating-in-the-pursuit-of-healing/
LOCATION:Grand Hyatt San Antonio River Walk Hotel\, 600 E Market St\, San Antonio\, TX\, 78205\, United States
CATEGORIES:Conference
END:VEVENT
BEGIN:VEVENT
DTSTART;TZID=America/New_York:20241002T130000
DTEND;TZID=America/New_York:20241002T140000
DTSTAMP:20260421T214827
CREATED:20240916T205830Z
LAST-MODIFIED:20241001T183012Z
UID:10000195-1727874000-1727877600@www.cfha.net
SUMMARY:Post-Doc Career Development Panel
DESCRIPTION:Join us on October 2nd for an exclusive career development event tailored to answer key questions about integrated care behavioral health post-doc programs. Whether you’re navigating the application process or seeking to deepen your understanding of integrated care models\, this session is designed to equip you with the insights you need. Meet real programs with real positions giving real advice. \nThis event will take place on Wednesday\, October 2nd at 1pm ET // 12pm CT // 11am MT // 10am PT. \n  \nPanelists: \n-David Bauman with Community Health of Central Washington \n-Stacy Ogbeide with UT Health San Antonio \n-Teresa Davigo with Providence Medical Group \n-Stephanie Burkhard with HealthSource of Ohio \n-Abigail Caserta with Nationwide Children’s Hospital \n-Paul King with the VA Center for Integrated Healthcare \n 
URL:https://www.cfha.net/event/post-doc-career-development-panel/
CATEGORIES:Community Conversation,Open to the Public
LOCATION:https://us02web.zoom.us/meeting/register/tZMrdu6rqT8oH9OSgAuvkeJmlXrFf3eziWwe
END:VEVENT
END:VCALENDAR