BEGIN:VCALENDAR
VERSION:2.0
PRODID:-//Collaborative Family Healthcare Association - ECPv6.15.20//NONSGML v1.0//EN
CALSCALE:GREGORIAN
METHOD:PUBLISH
X-WR-CALNAME:Collaborative Family Healthcare Association
X-ORIGINAL-URL:https://www.cfha.net
X-WR-CALDESC:Events for Collaborative Family Healthcare Association
REFRESH-INTERVAL;VALUE=DURATION:PT1H
X-Robots-Tag:noindex
X-PUBLISHED-TTL:PT1H
BEGIN:VTIMEZONE
TZID:America/Los_Angeles
BEGIN:DAYLIGHT
TZOFFSETFROM:-0800
TZOFFSETTO:-0700
TZNAME:PDT
DTSTART:20250309T100000
END:DAYLIGHT
BEGIN:STANDARD
TZOFFSETFROM:-0700
TZOFFSETTO:-0800
TZNAME:PST
DTSTART:20251102T090000
END:STANDARD
BEGIN:DAYLIGHT
TZOFFSETFROM:-0800
TZOFFSETTO:-0700
TZNAME:PDT
DTSTART:20260308T100000
END:DAYLIGHT
BEGIN:STANDARD
TZOFFSETFROM:-0700
TZOFFSETTO:-0800
TZNAME:PST
DTSTART:20261101T090000
END:STANDARD
BEGIN:DAYLIGHT
TZOFFSETFROM:-0800
TZOFFSETTO:-0700
TZNAME:PDT
DTSTART:20270314T100000
END:DAYLIGHT
BEGIN:STANDARD
TZOFFSETFROM:-0700
TZOFFSETTO:-0800
TZNAME:PST
DTSTART:20271107T090000
END:STANDARD
END:VTIMEZONE
BEGIN:VEVENT
DTSTART;TZID=America/Los_Angeles:20260325T120000
DTEND;TZID=America/Los_Angeles:20260325T130000
DTSTAMP:20260421T110209
CREATED:20260106T230702Z
LAST-MODIFIED:20260313T031923Z
UID:10000551-1774440000-1774443600@www.cfha.net
SUMMARY:Cal-IN Peer Group Meeting
DESCRIPTION:From Co-Location to True Integration: Early Lessons \nMany California FQHCs currently co-locate medical and behavioral health services—but moving from proximity to fully integrated care brings real operational\, clinical\, and cultural challenges. \nJoin this Cal-IN session to hear directly from an FQHC leader navigating the shift from co-location to integration. Daniela Vela Hernandez\, VP/ Chief Behavioral Health Officer at Innercare\, will share early challenges and practical lessons learned in workflows\, team roles\, and change management. \nWho should attend:\nFQHC clinical leaders\, behavioral health directors\, operations leaders\, and quality improvement teams working to advance integrated care. \n  \nThis meeting will take place at 12pm PT on Wednesday\, March 25th. \n  \nJoin us at the CFHA and California Quality Collaborative joint Cal-IN (California Integration Network) peer group\, where we’re uniting professionals to transform California’s integrated behavioral health services. Expect to learn from industry leaders\, gain practical strategies for integrating mental and physical healthcare\, and network with like-minded professionals. Together\, let’s innovate for a holistic healthcare system that caters to the whole person.
URL:https://www.cfha.net/event/cal-in-peer-group-meeting/
CATEGORIES:Cal-IN,Open to the Public,Workgroup
LOCATION:https://us02web.zoom.us/meeting/register/glLZp8SLQrqYLzNG2PQSkA
END:VEVENT
END:VCALENDAR