BEGIN:VCALENDAR
VERSION:2.0
PRODID:-//Collaborative Family Healthcare Association - ECPv6.15.20//NONSGML v1.0//EN
CALSCALE:GREGORIAN
METHOD:PUBLISH
X-WR-CALNAME:Collaborative Family Healthcare Association
X-ORIGINAL-URL:https://www.cfha.net
X-WR-CALDESC:Events for Collaborative Family Healthcare Association
REFRESH-INTERVAL;VALUE=DURATION:PT1H
X-Robots-Tag:noindex
X-PUBLISHED-TTL:PT1H
BEGIN:VTIMEZONE
TZID:America/Chicago
BEGIN:DAYLIGHT
TZOFFSETFROM:-0600
TZOFFSETTO:-0500
TZNAME:CDT
DTSTART:20250309T080000
END:DAYLIGHT
BEGIN:STANDARD
TZOFFSETFROM:-0500
TZOFFSETTO:-0600
TZNAME:CST
DTSTART:20251102T070000
END:STANDARD
BEGIN:DAYLIGHT
TZOFFSETFROM:-0600
TZOFFSETTO:-0500
TZNAME:CDT
DTSTART:20260308T080000
END:DAYLIGHT
BEGIN:STANDARD
TZOFFSETFROM:-0500
TZOFFSETTO:-0600
TZNAME:CST
DTSTART:20261101T070000
END:STANDARD
BEGIN:DAYLIGHT
TZOFFSETFROM:-0600
TZOFFSETTO:-0500
TZNAME:CDT
DTSTART:20270314T080000
END:DAYLIGHT
BEGIN:STANDARD
TZOFFSETFROM:-0500
TZOFFSETTO:-0600
TZNAME:CST
DTSTART:20271107T070000
END:STANDARD
END:VTIMEZONE
BEGIN:VTIMEZONE
TZID:America/New_York
BEGIN:DAYLIGHT
TZOFFSETFROM:-0500
TZOFFSETTO:-0400
TZNAME:EDT
DTSTART:20250309T070000
END:DAYLIGHT
BEGIN:STANDARD
TZOFFSETFROM:-0400
TZOFFSETTO:-0500
TZNAME:EST
DTSTART:20251102T060000
END:STANDARD
BEGIN:DAYLIGHT
TZOFFSETFROM:-0500
TZOFFSETTO:-0400
TZNAME:EDT
DTSTART:20260308T070000
END:DAYLIGHT
BEGIN:STANDARD
TZOFFSETFROM:-0400
TZOFFSETTO:-0500
TZNAME:EST
DTSTART:20261101T060000
END:STANDARD
BEGIN:DAYLIGHT
TZOFFSETFROM:-0500
TZOFFSETTO:-0400
TZNAME:EDT
DTSTART:20270314T070000
END:DAYLIGHT
BEGIN:STANDARD
TZOFFSETFROM:-0400
TZOFFSETTO:-0500
TZNAME:EST
DTSTART:20271107T060000
END:STANDARD
END:VTIMEZONE
BEGIN:VEVENT
DTSTART;TZID=America/Chicago:20260204T120000
DTEND;TZID=America/Chicago:20260204T130000
DTSTAMP:20260421T075732
CREATED:20251201T221812Z
LAST-MODIFIED:20251201T221812Z
UID:10000465-1770206400-1770210000@www.cfha.net
SUMMARY:Illinois CoCM Workgroup
DESCRIPTION:Join Kristen Malloy and Jen Thomas for the Illinois CoCM Workgroup! \n  \nThis group meets on the 1st Wednesday of each month at 12pm CT .
URL:https://www.cfha.net/event/illinois-cocm-workgroup-3/2026-02-04/
CATEGORIES:Illinois CoCM,Open to the Public,Workgroup
LOCATION:https://us02web.zoom.us/meeting/register/yVj0SSyzSAC5LxDvHZBNaw
END:VEVENT
BEGIN:VEVENT
DTSTART;TZID=America/New_York:20260206T140000
DTEND;TZID=America/New_York:20260206T150000
DTSTAMP:20260421T075732
CREATED:20251201T234001Z
LAST-MODIFIED:20260212T002038Z
UID:10000476-1770386400-1770390000@www.cfha.net
SUMMARY:Medical Champions for Integrated Care (MChIC) Workgroup
DESCRIPTION:The Medical Champions for Integrated Care (MChIC) Workgroup was created for medical professionals navigating the challenges of integrating physical and behavioral health care. We understand how exhausting breaking down silos in healthcare can be—because we’re on that journey with you! \nThe MChIC Workgroup will meet quarterly on a Friday at 2pm ET // 1pm CT // 12pm MT // 11am PT.
URL:https://www.cfha.net/event/medical-champions-for-integrated-care-mchic-workgroup-2/2026-02-06/
CATEGORIES:MChIC,Open to the Public,Workgroup
LOCATION:https://us02web.zoom.us/meeting/register/Qh-cX0uISEm1I6YD8n99dg
END:VEVENT
BEGIN:VEVENT
DTSTART;TZID=America/New_York:20260212T140000
DTEND;TZID=America/New_York:20260212T150000
DTSTAMP:20260421T075732
CREATED:20260205T225824Z
LAST-MODIFIED:20260205T225824Z
UID:10000572-1770904800-1770908400@www.cfha.net
SUMMARY:Commercial Payer Advisory Workgroup (C-PAW)
DESCRIPTION:The Commercial Payer Advisory Workgroup is a dynamic\, drop-in workgroup hosted by CFHA members Ed Jones & Norm Ryan to surface real-world challenges and opportunities in financing integrated care—especially in commercial settings. Open to all\, the group fosters a peer support network for professionals navigating the business side of integration\, from reimbursement barriers to payer engagement. Together\, we identify actionable strategies CFHA and its members can pursue to advance sustainable\, value-based integrated care. Whether you work in a commercial insurer\, health system\, or clinic setting\, your perspective belongs in the conversation. \n  \nThis group meets weekly on Thursdays at 2pm ET // 1pm CT // 12pm MT // 11am PT.
URL:https://www.cfha.net/event/commercial-payer-advisory-workgroup-c-paw/2026-02-12/
CATEGORIES:C-PAW,Open to the Public,Workgroup
LOCATION:https://us02web.zoom.us/j/84379701722?pwd=L3JYQ2Z2cE5kcGtzeGo0QmxUZnBGZz09
END:VEVENT
BEGIN:VEVENT
DTSTART;TZID=America/New_York:20260218T110000
DTEND;TZID=America/New_York:20260218T120000
DTSTAMP:20260421T075732
CREATED:20251215T222327Z
LAST-MODIFIED:20251215T222327Z
UID:10000506-1771412400-1771416000@www.cfha.net
SUMMARY:Specialty Integrated Medicine (SIM) Workgroup
DESCRIPTION:This group aims to advance the science and practice of integrated behavioral health in specialty medical settings through connection and collaboration. We are creating a place for anybody on the medical team (medial provider\, allied health\, etc.) who wants to improve team-based care in medical specialties. \n  \nJoin Toni Mahowald and Jon Deiches on the 3rd Wednesday of each month at 11am ET // 10am CT // 9am MT // 8am PT!
URL:https://www.cfha.net/event/specialty-integrated-medicine-sim-workgroup/2026-02-18/
CATEGORIES:Open to the Public,Specialty Integrated Medicine,Workgroup
LOCATION:https://us02web.zoom.us/meeting/register/qCkFRMblTLCQZoRwEZRZSg
END:VEVENT
BEGIN:VEVENT
DTSTART;TZID=America/New_York:20260219T140000
DTEND;TZID=America/New_York:20260219T150000
DTSTAMP:20260421T075732
CREATED:20260205T225824Z
LAST-MODIFIED:20260205T225824Z
UID:10000573-1771509600-1771513200@www.cfha.net
SUMMARY:Commercial Payer Advisory Workgroup (C-PAW)
DESCRIPTION:The Commercial Payer Advisory Workgroup is a dynamic\, drop-in workgroup hosted by CFHA members Ed Jones & Norm Ryan to surface real-world challenges and opportunities in financing integrated care—especially in commercial settings. Open to all\, the group fosters a peer support network for professionals navigating the business side of integration\, from reimbursement barriers to payer engagement. Together\, we identify actionable strategies CFHA and its members can pursue to advance sustainable\, value-based integrated care. Whether you work in a commercial insurer\, health system\, or clinic setting\, your perspective belongs in the conversation. \n  \nThis group meets weekly on Thursdays at 2pm ET // 1pm CT // 12pm MT // 11am PT.
URL:https://www.cfha.net/event/commercial-payer-advisory-workgroup-c-paw/2026-02-19/
CATEGORIES:C-PAW,Open to the Public,Workgroup
LOCATION:https://us02web.zoom.us/j/84379701722?pwd=L3JYQ2Z2cE5kcGtzeGo0QmxUZnBGZz09
END:VEVENT
BEGIN:VEVENT
DTSTART;TZID=America/New_York:20260225T150000
DTEND;TZID=America/New_York:20260225T160000
DTSTAMP:20260421T075732
CREATED:20251223T180411Z
LAST-MODIFIED:20251223T180411Z
UID:10000539-1772031600-1772035200@www.cfha.net
SUMMARY:Integrated Care Behaviorists in Family Medicine Residency Workgroup
DESCRIPTION:This workgroup is a place for behavioral health faculty working in family medicine residencies to build community\, advocate for our needs professionally\, and seek consensus on how we can keep moving the field forward. \nThis group meets on the last Wednesday of each month at 3pm ET // 2pm CT // 1pm MT // 12pm PT.
URL:https://www.cfha.net/event/integrated-care-behaviorists-in-family-medicine-residency-workgroup-4/2026-02-25/
CATEGORIES:Integrated Care Behaviorists in FM Residency,Open to the Public,Workgroup
LOCATION:https://us02web.zoom.us/meeting/register/OMkJCWWKTUKpMqbbI7ycxw
END:VEVENT
BEGIN:VEVENT
DTSTART;TZID=America/New_York:20260226T140000
DTEND;TZID=America/New_York:20260226T150000
DTSTAMP:20260421T075732
CREATED:20260205T225824Z
LAST-MODIFIED:20260205T225824Z
UID:10000574-1772114400-1772118000@www.cfha.net
SUMMARY:Commercial Payer Advisory Workgroup (C-PAW)
DESCRIPTION:The Commercial Payer Advisory Workgroup is a dynamic\, drop-in workgroup hosted by CFHA members Ed Jones & Norm Ryan to surface real-world challenges and opportunities in financing integrated care—especially in commercial settings. Open to all\, the group fosters a peer support network for professionals navigating the business side of integration\, from reimbursement barriers to payer engagement. Together\, we identify actionable strategies CFHA and its members can pursue to advance sustainable\, value-based integrated care. Whether you work in a commercial insurer\, health system\, or clinic setting\, your perspective belongs in the conversation. \n  \nThis group meets weekly on Thursdays at 2pm ET // 1pm CT // 12pm MT // 11am PT.
URL:https://www.cfha.net/event/commercial-payer-advisory-workgroup-c-paw/2026-02-26/
CATEGORIES:C-PAW,Open to the Public,Workgroup
LOCATION:https://us02web.zoom.us/j/84379701722?pwd=L3JYQ2Z2cE5kcGtzeGo0QmxUZnBGZz09
END:VEVENT
END:VCALENDAR