BEGIN:VCALENDAR
VERSION:2.0
PRODID:-//Collaborative Family Healthcare Association - ECPv6.15.20//NONSGML v1.0//EN
CALSCALE:GREGORIAN
METHOD:PUBLISH
X-WR-CALNAME:Collaborative Family Healthcare Association
X-ORIGINAL-URL:https://www.cfha.net
X-WR-CALDESC:Events for Collaborative Family Healthcare Association
REFRESH-INTERVAL;VALUE=DURATION:PT1H
X-Robots-Tag:noindex
X-PUBLISHED-TTL:PT1H
BEGIN:VTIMEZONE
TZID:America/New_York
BEGIN:DAYLIGHT
TZOFFSETFROM:-0500
TZOFFSETTO:-0400
TZNAME:EDT
DTSTART:20240310T070000
END:DAYLIGHT
BEGIN:STANDARD
TZOFFSETFROM:-0400
TZOFFSETTO:-0500
TZNAME:EST
DTSTART:20241103T060000
END:STANDARD
BEGIN:DAYLIGHT
TZOFFSETFROM:-0500
TZOFFSETTO:-0400
TZNAME:EDT
DTSTART:20250309T070000
END:DAYLIGHT
BEGIN:STANDARD
TZOFFSETFROM:-0400
TZOFFSETTO:-0500
TZNAME:EST
DTSTART:20251102T060000
END:STANDARD
BEGIN:DAYLIGHT
TZOFFSETFROM:-0500
TZOFFSETTO:-0400
TZNAME:EDT
DTSTART:20260308T070000
END:DAYLIGHT
BEGIN:STANDARD
TZOFFSETFROM:-0400
TZOFFSETTO:-0500
TZNAME:EST
DTSTART:20261101T060000
END:STANDARD
BEGIN:DAYLIGHT
TZOFFSETFROM:-0500
TZOFFSETTO:-0400
TZNAME:EDT
DTSTART:20270314T070000
END:DAYLIGHT
BEGIN:STANDARD
TZOFFSETFROM:-0400
TZOFFSETTO:-0500
TZNAME:EST
DTSTART:20271107T060000
END:STANDARD
END:VTIMEZONE
BEGIN:VEVENT
DTSTART;TZID=America/New_York:20260225T160000
DTEND;TZID=America/New_York:20260225T170000
DTSTAMP:20260422T131722
CREATED:20260204T225006Z
LAST-MODIFIED:20260204T225317Z
UID:10000571-1772035200-1772038800@www.cfha.net
SUMMARY:Families & Health SIG Webinar: Working with couples presenting with medical concerns
DESCRIPTION:The first F&H SIG webinar of 2026 will feature a presentation on working with couples presenting with medical concerns by Lizee Nuñez Love\, MS\, LMFTA. \nLizee Nuñez Love\, MS\, LMFTA\, Resident in MFT (she/her/ella) is licensed to practice marriage and family therapy under supervision in North Carolina and Virginia. She is also a doctoral student at Virginia Tech in the Human Development program\, with a concentration in Marriage and Family Therapy. Currently\, Lizee maintains a small virtual caseload at Callahan Therapy & Consultation\, where she works with couples from marginalized communities (LGBTQ+\, BIPOC\, neurodivergent\, chronic illness). Through Virginia Tech\, Lizee is an instructor\, graduate research assistant\, and doctoral MFT intern. During her master’s program\, Lizee completed a medical family therapy internship at UT Southwestern\, serving patients and their families across primary care\, secondary care\, and outpatient mental health sites. Lizee hopes to combine her clinical work and scholarship to achieve social justice and systemic change. \n  \nThe Families and Health SIG General Body Meetings allow for collaboration in scholarship\, education/training\, practice\, and policy for interdisciplinary professionals interested in promoting a family-centered approach in healthcare. Our General Body Meetings offer webinars and community engagement opportunities among professionals in the field. \n  \nThis webinar will be held on Wednesday\, February 25th at 4pm ET // 3pm CT // 2pm MT // 1pm PT. \n  \nSIG Meetings are a CFHA Member Benefit. Learn more about becoming a CFHA Member.
URL:https://www.cfha.net/event/families-health-sig-webinar-2/
CATEGORIES:Families & Health,Members-Only Event,SIG
LOCATION:https://us02web.zoom.us/meeting/register/ZrWSyUzuQASF097pEXIApA
END:VEVENT
BEGIN:VEVENT
DTSTART;TZID=America/New_York:20260121T140000
DTEND;TZID=America/New_York:20260121T150000
DTSTAMP:20260422T131722
CREATED:20260120T183933Z
LAST-MODIFIED:20260120T184702Z
UID:10000555-1769004000-1769007600@www.cfha.net
SUMMARY:Families & Health SIG Community Discussion
DESCRIPTION:The Families and Health SIG General Body Meetings allow for collaboration in scholarship\, education/training\, practice\, and policy for interdisciplinary professionals interested in promoting a family-centered approach in healthcare. Our General Body Meetings offer webinars and community engagement opportunities among professionals in the field. \n  \nAgenda items for this event include: \n🔹 An introduction to our new leadership team for 2026 and plans for the year\n🔹 An opportunity to share ideas that will help inform CFHA initiatives\n🔹 A chance to connect with professionals across disciplines who are passionate about this work \n  \nThis webinar will be held on Wednesday\, January 21st at 2pm ET // 1pm CT // 12pm MT // 11am PT. \n  \nSIG Meetings are a CFHA Member Benefit. Learn more about becoming a CFHA Member.
URL:https://www.cfha.net/event/families-health-sig-community-discussion-2/
CATEGORIES:Families & Health,Members-Only Event,SIG
LOCATION:https://us02web.zoom.us/meeting/register/oRNlZnjwSRKrQePfN-Gmsg
END:VEVENT
BEGIN:VEVENT
DTSTART;TZID=America/New_York:20250909T140000
DTEND;TZID=America/New_York:20250909T150000
DTSTAMP:20260422T131722
CREATED:20250627T012103Z
LAST-MODIFIED:20250627T012103Z
UID:10000411-1757426400-1757430000@www.cfha.net
SUMMARY:Families & Health SIG Webinar: Beyond the Individual: Reimagining Single Session Therapy with a Family-Centered Lens
DESCRIPTION:The Families and Health SIG General Body Meetings allow for collaboration in scholarship\, education/training\, practice\, and policy for interdisciplinary professionals interested in promoting a family-centered approach in healthcare. Our General Body Meetings offer webinars and community engagement opportunities among professionals in the field. \nSingle Session Therapy (SST) has shown promising results in improving mental health outcomes in fast-paced\, resource-limited settings. But what happens when we move beyond the individual and engage the entire family unit? This session introduces the concept of Family-Centered Single Session Therapy (FCSST)—a framework that blends the core strengths of SST with principles of family-centered care to address both relational and clinical needs within integrated care. \nWe’ll explore the current evidence supporting SST and family engagement\, discuss clinical contexts where this model may be most effective\, and introduce participants to the foundational components of FCSST. Attendees will leave with ideas they can bring back to their own settings—and a preview of what’s to come in the full in-person session at CFHA’s 2025 Annual Conference in October. \nThis webinar will be held on Tuesday\, September 9th at 2pm ET // 1pm CT // 12pm MT // 11am PT. \n  \nSpeaker: Dr. Melissa Welch\, PhD\, LMFT \nAssociate Program Director\, FSU Family Medicine Residency at Ascension Sacred Heart Emerald Coast \nDr. Melissa Welch is a licensed marriage and family therapist and the Associate Program Director of the Florida State University Family Medicine Residency Program at Ascension Sacred Heart Emerald Coast in Walton County\, Florida. With nearly a decade of clinical experience\, she has worked extensively with individuals\, couples\, and families across a range of medical and mental health settings. \nDr. Welch’s academic and clinical work centers on the integration of family systems principles into healthcare. Her research has focused on advancing family-centered care and identifying opportunities to enhance family engagement in the primary care setting. She is also a qualified supervisor in the state of Florida and is passionate about training future clinicians to deliver compassionate\, collaborative\, and evidence-informed care. \nDr. Welch brings a relational\, biopsychosocial-spiritual lens to her work in medical education\, where she supports residents in developing the behavioral and communication skills essential for whole-person care. \n  \nSIG Meetings are a CFHA Member Benefit. Learn more about becoming a CFHA Member.
URL:https://www.cfha.net/event/families-health-sig-webinar-beyond-the-individual-reimagining-single-session-therapy-with-a-family-centered-lens/
CATEGORIES:Families & Health,Members-Only Event,SIG
LOCATION:https://us02web.zoom.us/meeting/register/sQRBr152R0KHAcaYn12HVQ
END:VEVENT
BEGIN:VEVENT
DTSTART;TZID=America/New_York:20250729T130000
DTEND;TZID=America/New_York:20250729T140000
DTSTAMP:20260422T131722
CREATED:20250627T005204Z
LAST-MODIFIED:20250627T005312Z
UID:10000410-1753794000-1753797600@www.cfha.net
SUMMARY:Families & Health SIG Webinar: From Awareness to Action: Behavioral Strategies to Address HIV Stigma
DESCRIPTION:The Families and Health SIG General Body Meetings allow for collaboration in scholarship\, education/training\, practice\, and policy for interdisciplinary professionals interested in promoting a family-centered approach in healthcare. Our General Body Meetings offer webinars and community engagement opportunities among professionals in the field. \nThis session will begin with a concise overview of HIV epidemiology\, transmission facts\, and the origins of stigma\, setting the stage for understanding its impact on patient care and the family system. Participants will then explore multiple behavioral communication techniques and actionable strategies to dismantle stigmatizing attitudes and foster more empathetic\, supportive interactions in both clinical and community settings\, including within the family. \nSpeaker: Kento Sonoda\, MD\, AAHIVS \nThis webinar will be held on Tuesday\, July 29th at 1pm ET // 12pm CT // 11am MT // 10am PT. \n  \nSIG Meetings are a CFHA Member Benefit. Learn more about becoming a CFHA Member.
URL:https://www.cfha.net/event/families-health-sig-webinar/
CATEGORIES:Families & Health,Members-Only Event,SIG
LOCATION:https://us02web.zoom.us/meeting/register/9DExYAxgSp6Oe4F817q26w
END:VEVENT
BEGIN:VEVENT
DTSTART;TZID=America/New_York:20250225T140000
DTEND;TZID=America/New_York:20250225T150000
DTSTAMP:20260422T131722
CREATED:20250204T223710Z
LAST-MODIFIED:20250204T223710Z
UID:10000380-1740492000-1740495600@www.cfha.net
SUMMARY:Families & Health SIG Community Discussion
DESCRIPTION:The Families and Health SIG General Body Meetings allow for collaboration in scholarship\, education/training\, practice\, and policy for interdisciplinary professionals interested in promoting a family-centered approach in healthcare. Our General Body Meetings offer webinars and community engagement opportunities among professionals in the field. \n  \nThe Families and Health SIG will be hosting a community discussion on Tuesday\, February 25th at 2pm ET // 1pm CT // 12pm MT // 11am PT. We hope you will join us for a community discussion on health system changes that would support more family-centered care. \n  \nSIG Meetings are a CFHA Member Benefit. Learn more about becoming a CFHA Member.
URL:https://www.cfha.net/event/families-health-sig-community-discussion/
CATEGORIES:Families & Health,Members-Only Event,SIG
LOCATION:https://us02web.zoom.us/meeting/register/C-pUlei9TE-wjf0dBZ15Gg
END:VEVENT
END:VCALENDAR