BEGIN:VCALENDAR
VERSION:2.0
PRODID:-//Collaborative Family Healthcare Association - ECPv6.15.20//NONSGML v1.0//EN
CALSCALE:GREGORIAN
METHOD:PUBLISH
X-WR-CALNAME:Collaborative Family Healthcare Association
X-ORIGINAL-URL:https://www.cfha.net
X-WR-CALDESC:Events for Collaborative Family Healthcare Association
REFRESH-INTERVAL;VALUE=DURATION:PT1H
X-Robots-Tag:noindex
X-PUBLISHED-TTL:PT1H
BEGIN:VTIMEZONE
TZID:America/Chicago
BEGIN:DAYLIGHT
TZOFFSETFROM:-0600
TZOFFSETTO:-0500
TZNAME:CDT
DTSTART:20230312T080000
END:DAYLIGHT
BEGIN:STANDARD
TZOFFSETFROM:-0500
TZOFFSETTO:-0600
TZNAME:CST
DTSTART:20231105T070000
END:STANDARD
BEGIN:DAYLIGHT
TZOFFSETFROM:-0600
TZOFFSETTO:-0500
TZNAME:CDT
DTSTART:20240310T080000
END:DAYLIGHT
BEGIN:STANDARD
TZOFFSETFROM:-0500
TZOFFSETTO:-0600
TZNAME:CST
DTSTART:20241103T070000
END:STANDARD
BEGIN:DAYLIGHT
TZOFFSETFROM:-0600
TZOFFSETTO:-0500
TZNAME:CDT
DTSTART:20250309T080000
END:DAYLIGHT
BEGIN:STANDARD
TZOFFSETFROM:-0500
TZOFFSETTO:-0600
TZNAME:CST
DTSTART:20251102T070000
END:STANDARD
END:VTIMEZONE
BEGIN:VEVENT
DTSTART;VALUE=DATE:20241024
DTEND;VALUE=DATE:20241027
DTSTAMP:20260423T085326
CREATED:20240926T194918Z
LAST-MODIFIED:20240926T195345Z
UID:10000216-1729728000-1729987199@www.cfha.net
SUMMARY:Annual CFHA Conference - 30 Years of Integration: Innovating in the Pursuit of Healing
DESCRIPTION:The Collaborative Family Healthcare Association (CFHA) hosts the premier conference for healthcare professionals and allies interested in bringing medicine and behavioral health together. As part of a suite of services\, which include community building\, content production\, and consultation services\, CFHA’s annual conference has become the place to learn and network with all stripes of healthcare professionals\, foundations\, payers\, and others interested in integrated care. With over 80 sessions\, 20 CEs\, and ample networking times CFHA’s conference is the place to build lifelong professional relationships. \nIntegrated care has been our guiding force for healing over the past 30 years\, marked by the evolution from the Collaborative Family Health Care Coalition to the present-day Collaborative Family Healthcare Association. As we celebrate this milestone at the 2024 CFHA Conference in San Antonio\, we reflect on the resilience and innovation that have fueled integrated care through pandemics\, social challenges\, and healthcare reforms.
URL:https://www.cfha.net/event/annual-cfha-conference-30-years-of-integration-innovating-in-the-pursuit-of-healing/
LOCATION:Grand Hyatt San Antonio River Walk Hotel\, 600 E Market St\, San Antonio\, TX\, 78205\, United States
CATEGORIES:Conference
END:VEVENT
END:VCALENDAR