BEGIN:VCALENDAR
VERSION:2.0
PRODID:-//Collaborative Family Healthcare Association - ECPv6.15.20//NONSGML v1.0//EN
CALSCALE:GREGORIAN
METHOD:PUBLISH
X-WR-CALNAME:Collaborative Family Healthcare Association
X-ORIGINAL-URL:https://www.cfha.net
X-WR-CALDESC:Events for Collaborative Family Healthcare Association
REFRESH-INTERVAL;VALUE=DURATION:PT1H
X-Robots-Tag:noindex
X-PUBLISHED-TTL:PT1H
BEGIN:VTIMEZONE
TZID:America/New_York
BEGIN:DAYLIGHT
TZOFFSETFROM:-0500
TZOFFSETTO:-0400
TZNAME:EDT
DTSTART:20250309T070000
END:DAYLIGHT
BEGIN:STANDARD
TZOFFSETFROM:-0400
TZOFFSETTO:-0500
TZNAME:EST
DTSTART:20251102T060000
END:STANDARD
BEGIN:DAYLIGHT
TZOFFSETFROM:-0500
TZOFFSETTO:-0400
TZNAME:EDT
DTSTART:20260308T070000
END:DAYLIGHT
BEGIN:STANDARD
TZOFFSETFROM:-0400
TZOFFSETTO:-0500
TZNAME:EST
DTSTART:20261101T060000
END:STANDARD
BEGIN:DAYLIGHT
TZOFFSETFROM:-0500
TZOFFSETTO:-0400
TZNAME:EDT
DTSTART:20270314T070000
END:DAYLIGHT
BEGIN:STANDARD
TZOFFSETFROM:-0400
TZOFFSETTO:-0500
TZNAME:EST
DTSTART:20271107T060000
END:STANDARD
END:VTIMEZONE
BEGIN:VEVENT
DTSTART;TZID=America/New_York:20260306T120000
DTEND;TZID=America/New_York:20260306T133000
DTSTAMP:20260422T160758
CREATED:20251125T181144Z
LAST-MODIFIED:20251125T181224Z
UID:10000427-1772798400-1772803800@www.cfha.net
SUMMARY:PCBH Implementation Lab with David Bauman and Bridget Beachy - Cohort 5
DESCRIPTION:Transform your practice with our comprehensive 4-month learning program on Primary Care Behavioral Health (PCBH) integration\, led by nationally renowned experts Bridget Beachy and David Bauman. As trailblazers in one of the nation’s most successful PCBH programs\, Bridget and David bring unparalleled expertise and practical insights to help you achieve meaningful integration of behavioral health services in primary care settings. \nThis program is designed for practitioners at all levels—whether you’re new to PCBH or seeking to enhance your existing practices. Through an engaging curriculum\, you’ll gain the tools\, strategies\, and confidence needed to create patient-centered\, team-based care models that prioritize holistic wellness.
URL:https://www.cfha.net/event/pcbh-implementation-lab-with-david-bauman-and-bridget-beachy-5/2026-03-06/
CATEGORIES:Open to the Public,Training Experiences
LOCATION:
END:VEVENT
BEGIN:VEVENT
DTSTART;TZID=America/New_York:20260306T140000
DTEND;TZID=America/New_York:20260306T150000
DTSTAMP:20260422T160758
CREATED:20251201T234001Z
LAST-MODIFIED:20260212T002038Z
UID:10000623-1772805600-1772809200@www.cfha.net
SUMMARY:Medical Champions for Integrated Care (MChIC) Workgroup
DESCRIPTION:The Medical Champions for Integrated Care (MChIC) Workgroup was created for medical professionals navigating the challenges of integrating physical and behavioral health care. We understand how exhausting breaking down silos in healthcare can be—because we’re on that journey with you! \nThe MChIC Workgroup will meet quarterly on a Friday at 2pm ET // 1pm CT // 12pm MT // 11am PT.
URL:https://www.cfha.net/event/medical-champions-for-integrated-care-mchic-workgroup-2/2026-03-06/
CATEGORIES:MChIC,Open to the Public,Workgroup
LOCATION:https://us02web.zoom.us/meeting/register/Qh-cX0uISEm1I6YD8n99dg
END:VEVENT
END:VCALENDAR